BEGIN:VCALENDAR
VERSION:2.0
PRODID:-//Garden City - ECPv6.15.18//NONSGML v1.0//EN
CALSCALE:GREGORIAN
METHOD:PUBLISH
X-WR-CALNAME:Garden City
X-ORIGINAL-URL:https://claw-cade.com/gardencity
X-WR-CALDESC:Events for Garden City
REFRESH-INTERVAL;VALUE=DURATION:PT1H
X-Robots-Tag:noindex
X-PUBLISHED-TTL:PT1H
BEGIN:VTIMEZONE
TZID:America/New_York
BEGIN:DAYLIGHT
TZOFFSETFROM:-0500
TZOFFSETTO:-0400
TZNAME:EDT
DTSTART:20250309T070000
END:DAYLIGHT
BEGIN:STANDARD
TZOFFSETFROM:-0400
TZOFFSETTO:-0500
TZNAME:EST
DTSTART:20251102T060000
END:STANDARD
BEGIN:DAYLIGHT
TZOFFSETFROM:-0500
TZOFFSETTO:-0400
TZNAME:EDT
DTSTART:20260308T070000
END:DAYLIGHT
BEGIN:STANDARD
TZOFFSETFROM:-0400
TZOFFSETTO:-0500
TZNAME:EST
DTSTART:20261101T060000
END:STANDARD
BEGIN:DAYLIGHT
TZOFFSETFROM:-0500
TZOFFSETTO:-0400
TZNAME:EDT
DTSTART:20270314T070000
END:DAYLIGHT
BEGIN:STANDARD
TZOFFSETFROM:-0400
TZOFFSETTO:-0500
TZNAME:EST
DTSTART:20271107T060000
END:STANDARD
END:VTIMEZONE
BEGIN:VEVENT
DTSTART;TZID=America/New_York:20260404T100000
DTEND;TZID=America/New_York:20260502T180000
DTSTAMP:20260423T063944
CREATED:20260307T194413Z
LAST-MODIFIED:20260307T194415Z
UID:5302-1775296800-1777744800@claw-cade.com
SUMMARY:Mario Mania
DESCRIPTION:Power up your play from April 4th – May 2nd with our Mario Mania Raffle Event. \nBuy a Game Card & Get Rewards Instantly: \n\nBuy a $50 Game Card – Get 1 FREE Scratcher + 1 Raffle Ticket\nBuy a $100 Game Card – Get 2 FREE Scratchers + 2 Raffle Tickets\n\nMembers receive DOUBLE scratchers and raffle tickets. \nEvery Scratcher is a Guaranteed Winner. \nWin prizes ranging from $5 to $300 in game cards. \nGrand Raffle Drawing: \nSaturday\, May 2nd at 6PM (Must be present to win) \nRaffle Prizes: \nGrand Prize: $200 Game Card + Nintendo Switch 2 \nSecond Prize: $100 Game Card + Hatching Yoshi \nThird Prize: $50 Game Card + Giant Mario Plushie \nRules: \n• One raffle prize per winner \n• Must be present at the drawing to win
URL:https://claw-cade.com/gardencity/event/mario-mania/
LOCATION:ClawCADE\, 630 Old Country Road\, Garden City\, NY\, 11530\, United States
ORGANIZER;CN="ClawCADE - Roosevelt Field Mall":MAILTO:win@claw-cade.com
END:VEVENT
BEGIN:VEVENT
DTSTART;TZID=America/New_York:20260530T100000
DTEND;TZID=America/New_York:20260630T180000
DTSTAMP:20260423T063944
CREATED:20260306T182944Z
LAST-MODIFIED:20260307T201206Z
UID:5288-1780135200-1782842400@claw-cade.com
SUMMARY:Spring Scratcher Event
DESCRIPTION:ClawCADE Spring Scratcher Event\nMay 3– May 30th 2026 \nGet ready for a month of prizes at ClawCADE! During our Spring Scratcher Event\, guests can win instant prizes and enter our grand prize raffle simply by purchasing game cards. \nHow It Works\nFor every $50 game card purchase\, guests will receive: \n\n1 Scratcher Ticket\n1 Raffle Entry\n\nEvery scratcher is a winner with prizes ranging from $5 to $300 in ClawCADE game card value. \nThe more you play\, the more chances you have to win. \nExamples\n$50 Game Card Purchase \n\n1 Scratcher\n1 Raffle Entry\n\n$100 Game Card Purchase \n\n2 Scratchers\n2 Raffle Entries\n\n$200 Game Card Purchase \n\n4 Scratchers\n4 Raffle Entries\n\nScratchers must be redeemed in-store at the time of purchase. \nMember Bonus\nActive ClawCADE Members receive DOUBLE rewards during the promotion. \nMembers receive: \n\n2 Scratchers for every $50 in game card purchases\n2 Raffle Entries for every $50 in game card purchases\n\nExample: \n$50 Game Card (Member) \n\n2 Scratchers\n2 Raffle Entries\n\n$100 Game Card (Member) \n\n4 Scratchers\n4 Raffle Entries\n\nInstant Scratcher Prizes\nEvery scratcher ticket is a winner. \nPossible prizes include ClawCADE game card credits ranging from: \n$5 – $300 \nPrizes must be redeemed according to instructions printed on the scratcher. \nGame card credits have no cash value and cannot be exchanged for cash. \nGrand Prize Raffle\nAll raffle entries collected during the promotion will be entered into the Spring Scratcher Grand Prize Drawing. \nDrawing Date: May 30th 2026 \nTime: 6:00 PM \nLocation: ClawCADE \nWinner must be present at the time of drawing to claim the prize. Only one winner per drawing\, cannot win multiple raffles \nRaffle Prizes\nGrand Prize Winner\n\n $250 ClawCADE Gift Card\nFull Case of Pokémon Trading Cards\n\nSecond Prize Winner\n\n$100 ClawCADE Gift Card\n2 Pokémon Card Packs\n\nThird Prize Winner\n\n$50 ClawCADE Gift Card\n2 Pokémon Card Packs\n\nIf a selected winner is not present\, another raffle ticket will be drawn. \nPromotion Rules & Conditions\n\nPromotion runs  May 3rd 2026 to May 30th 2026\nScratchers are distributed only with qualifying game card purchases\nScratchers and raffle entries are issued per $50 spent on game cards\nScratchers and raffle tickets are not issued retroactively\nGame card purchases must be made during the promotional period\nScratchers may not be exchanged or redeemed for cash\nClawCADE reserves the right to substitute prizes of equal value if necessary\nManagement decisions regarding prize distribution are final\nPromotion valid only at participating ClawCADE locations\n\nImportant Note\nAll raffle prize winners must be present at the April 25 2026 drawing at 6:00 PM to claim their prize. If a winner is not present\, a new ticket will be drawn.
URL:https://claw-cade.com/gardencity/event/spring-scratcher-event/
LOCATION:ClawCADE\, 630 Old Country Road\, Garden City\, NY\, 11530\, United States
ATTACH;FMTTYPE=image/webp:https://claw-cade.com/gardencity/wp-content/uploads/sites/3/2026/03/springscratcher.webp
ORGANIZER;CN="ClawCADE - Roosevelt Field Mall":MAILTO:win@claw-cade.com
END:VEVENT
END:VCALENDAR